BEGIN:VCALENDAR
VERSION:2.0
PRODID:-//Ville de Flayosc - Première porte du haut var - Paca - 83780 - Membre de la communauté d&#039;agglomération dracénoise CAD - ECPv5.3.2//NONSGML v1.0//EN
CALSCALE:GREGORIAN
METHOD:PUBLISH
X-WR-CALNAME:Ville de Flayosc - Première porte du haut var - Paca - 83780 - Membre de la communauté d&#039;agglomération dracénoise CAD
X-ORIGINAL-URL:https://www.flayosc.fr
X-WR-CALDESC:évènements pour Ville de Flayosc - Première porte du haut var - Paca - 83780 - Membre de la communauté d&#039;agglomération dracénoise CAD
BEGIN:VTIMEZONE
TZID:Europe/Paris
BEGIN:DAYLIGHT
TZOFFSETFROM:+0100
TZOFFSETTO:+0200
TZNAME:CEST
DTSTART:20260329T010000
END:DAYLIGHT
BEGIN:STANDARD
TZOFFSETFROM:+0200
TZOFFSETTO:+0100
TZNAME:CET
DTSTART:20261025T010000
END:STANDARD
END:VTIMEZONE
BEGIN:VEVENT
DTSTART;TZID=Europe/Paris:20260506T140000
DTEND;TZID=Europe/Paris:20260506T170000
DTSTAMP:20260423T133814
CREATED:20260422T140210Z
LAST-MODIFIED:20260422T140210Z
UID:16217-1778076000-1778086800@www.flayosc.fr
SUMMARY:Animations de la médiathèque mai 2026
DESCRIPTION:Animations de la médiathèque mai 2026\nDans le cadre du festival de la Terre\, la médiathèque organise l’événement Land Art – Discussion et création collective \nProgramme :\n\nMercredi 6 mai : dès 14h découverte du Land Art et décision collective du matériel pour créer une oeuvre participative. Pendant la semaine les participants cherchent des éléments de la nature propres à cette création\nMercredi 13 mai : dès 14h création collective dans le jardin de la médiathèque et autour du platane attenant avec tous les éléments récoltés.\n\nInscription gratuite pour un public famille\, les participants s’engageant à être présents aux deux ateliers.
URL:https://www.flayosc.fr/event/animations-de-la-mediatheque-mai-2026/
CATEGORIES:Événements
ATTACH;FMTTYPE=image/jpeg:https://www.flayosc.fr/wp-content/uploads/2026/04/Festival-de-la-Terre-A3dernierajout-scaled.jpg
END:VEVENT
END:VCALENDAR