BEGIN:VCALENDAR
VERSION:2.0
PRODID:-//Ville de Flayosc - Première porte du haut var - Paca - 83780 - Membre de la communauté d&#039;agglomération dracénoise CAD - ECPv5.3.2//NONSGML v1.0//EN
CALSCALE:GREGORIAN
METHOD:PUBLISH
X-WR-CALNAME:Ville de Flayosc - Première porte du haut var - Paca - 83780 - Membre de la communauté d&#039;agglomération dracénoise CAD
X-ORIGINAL-URL:https://www.flayosc.fr
X-WR-CALDESC:évènements pour Ville de Flayosc - Première porte du haut var - Paca - 83780 - Membre de la communauté d&#039;agglomération dracénoise CAD
BEGIN:VTIMEZONE
TZID:Europe/Paris
BEGIN:DAYLIGHT
TZOFFSETFROM:+0100
TZOFFSETTO:+0200
TZNAME:CEST
DTSTART:20260329T010000
END:DAYLIGHT
BEGIN:STANDARD
TZOFFSETFROM:+0200
TZOFFSETTO:+0100
TZNAME:CET
DTSTART:20261025T010000
END:STANDARD
END:VTIMEZONE
BEGIN:VEVENT
DTSTART;TZID=Europe/Paris:20260126T093000
DTEND;TZID=Europe/Paris:20260126T110000
DTSTAMP:20260419T180556
CREATED:20251211T090626Z
LAST-MODIFIED:20251211T091435Z
UID:16050-1769419800-1769425200@www.flayosc.fr
SUMMARY:Ateliers mémoire
DESCRIPTION:Le CCAS de la Ville de Flayosc en partenariat avec le Département du Var et MetaFor organise une série d’ateliers relatifs à la mémoire.\nRendez-vous tous les lundis de janvier\, février et les deux premiers mercredis de mars. \nListe des dates : \n5\, 12\, 19 et 26 janvier\n2\, 9\, 16 et 23 février\n2 et 9 mars \nHoraires : 9h30 – 11h00 Hôtel de Ville \nAteliers gratuits sur inscription au 0494704003
URL:https://www.flayosc.fr/event/ateliers-memoire-3/
CATEGORIES:Événements
ATTACH;FMTTYPE=image/png:https://www.flayosc.fr/wp-content/uploads/2025/12/Atelier.png
END:VEVENT
END:VCALENDAR