BEGIN:VCALENDAR
VERSION:2.0
PRODID:-//Ville de Flayosc - Première porte du haut var - Paca - 83780 - Membre de la communauté d&#039;agglomération dracénoise CAD - ECPv5.3.2//NONSGML v1.0//EN
CALSCALE:GREGORIAN
METHOD:PUBLISH
X-WR-CALNAME:Ville de Flayosc - Première porte du haut var - Paca - 83780 - Membre de la communauté d&#039;agglomération dracénoise CAD
X-ORIGINAL-URL:https://www.flayosc.fr
X-WR-CALDESC:évènements pour Ville de Flayosc - Première porte du haut var - Paca - 83780 - Membre de la communauté d&#039;agglomération dracénoise CAD
BEGIN:VTIMEZONE
TZID:Europe/Paris
BEGIN:DAYLIGHT
TZOFFSETFROM:+0100
TZOFFSETTO:+0200
TZNAME:CEST
DTSTART:20260329T010000
END:DAYLIGHT
BEGIN:STANDARD
TZOFFSETFROM:+0200
TZOFFSETTO:+0100
TZNAME:CET
DTSTART:20261025T010000
END:STANDARD
END:VTIMEZONE
BEGIN:VEVENT
DTSTART;TZID=Europe/Paris:20260530T203000
DTEND;TZID=Europe/Paris:20260530T223000
DTSTAMP:20260421T141521
CREATED:20260421T090352Z
LAST-MODIFIED:20260421T090352Z
UID:16213-1780173000-1780180200@www.flayosc.fr
SUMMARY:Concert - voyage au coeur de l'Andalousie
DESCRIPTION:Concert – voyage au cœur de l’Andalousie\nSamedi 30 mai – 20h30 – église Saint Laurent \nChangement de registre pour le dernier concert de la saison 2025-2026 ! \nLa Sauvegarde vous propose de vous laisser charmer par la guitare andalouse d’Ange Flamenco et de ses deux amis ! \nAnge Flamenco est un guitariste Concertiste de Flamenco et Rumba. \nIl s’initie au Flamenco dès son plus jeune âge avec passion\, joie et souffrance en tant qu’autodidacte. \nD’origine andalouse\, il part s’y perfectionner avec les plus grands professeurs de Flamenco comme Paco CEPERO. \nAujourd’hui\, il nous présente son Flamenco qui est pour lui synonyme de joie\, de passion ainsi que de puissance et de dextérité avec ses compadres « Rico et Juan ». \nIls nous offriront\,  le samedi 30 mai à 20h30 dans notre église\, un merveilleux voyage au cœur de l’Andalousie. \nEntrée 12 €\, 10 € (adhérent)\, 5 € (réduit)
URL:https://www.flayosc.fr/event/concert-voyage-au-coeur-de-landalousie/
CATEGORIES:Événements
ATTACH;FMTTYPE=image/jpeg:https://www.flayosc.fr/wp-content/uploads/2026/04/Affiche-concert-Ange-30-mai-2026-scaled.jpg
END:VEVENT
END:VCALENDAR