BEGIN:VCALENDAR
VERSION:2.0
PRODID:-//Ville de Flayosc - Première porte du haut var - Paca - 83780 - Membre de la communauté d&#039;agglomération dracénoise CAD - ECPv5.3.2//NONSGML v1.0//EN
CALSCALE:GREGORIAN
METHOD:PUBLISH
X-WR-CALNAME:Ville de Flayosc - Première porte du haut var - Paca - 83780 - Membre de la communauté d&#039;agglomération dracénoise CAD
X-ORIGINAL-URL:https://www.flayosc.fr
X-WR-CALDESC:évènements pour Ville de Flayosc - Première porte du haut var - Paca - 83780 - Membre de la communauté d&#039;agglomération dracénoise CAD
BEGIN:VTIMEZONE
TZID:Europe/Paris
BEGIN:DAYLIGHT
TZOFFSETFROM:+0100
TZOFFSETTO:+0200
TZNAME:CEST
DTSTART:20260329T010000
END:DAYLIGHT
BEGIN:STANDARD
TZOFFSETFROM:+0200
TZOFFSETTO:+0100
TZNAME:CET
DTSTART:20261025T010000
END:STANDARD
END:VTIMEZONE
BEGIN:VEVENT
DTSTART;TZID=Europe/Paris:20260423T190000
DTEND;TZID=Europe/Paris:20260423T210000
DTSTAMP:20260420T172336
CREATED:20260420T114949Z
LAST-MODIFIED:20260420T115101Z
UID:16208-1776970800-1776978000@www.flayosc.fr
SUMMARY:Conseil Municipal du 23 avril
DESCRIPTION:Prochaine séance du Conseil Municipal\nJeudi 23 avril 2026\n19h – Salle du Conseil Municipal \nConsulter l ordre du jour\n 
URL:https://www.flayosc.fr/event/conseil-municipal-du-23-avril/
CATEGORIES:Événements
ATTACH;FMTTYPE=image/png:https://www.flayosc.fr/wp-content/uploads/2026/04/Prochain-Conseil-Municipal-3.png
END:VEVENT
END:VCALENDAR